BEGIN:VCALENDAR
VERSION:2.0
PRODID:-//wp-events-plugin.com//7.2.3.1//EN
TZID:Europe/Berlin
X-WR-TIMEZONE:Europe/Berlin
BEGIN:VEVENT
UID:112@historielaerer.dk
DTSTART;VALUE=DATE:20191122
DTEND;VALUE=DATE:20191125
DTSTAMP:20190731T135256Z
URL:https://historielaerer.dk/kurser/teaching-european-integration-how-and
 -why/
SUMMARY:Teaching European Integration. How and Why?
DESCRIPTION:The House of European History is a museum and learning forum es
 tablished in Brussels with the support of the European Parliament. It aims
  at promoting the knowledge of the history of the European Union\, as well
  as the understanding that there are multiple perspectives connected to it
 . Together\, we will welcome 20 motivated history and citizenship educator
 s from all across Europe. We will offer a programme full of active worksho
 ps\, keynote lectures\, feedback sessions and visits to the House of Europ
 ean History’s exhibition. The programme will focus on the theme: “Teac
 hing European Integration. How and Why?”\, and will make use of original
  educational material developed by the House of European History and by EU
 ROCLIO.\n\nWhether students\, and people at large\, like it or not\, the E
 uropean Union has a huge impact on everyone’s life. Every day\, in fact\
 , European citizens enjoy freedoms that would not have been at their dispo
 sal were it not for the Union\, and are at the same time subject to rules 
 and regulations that have been established by it. Furthermore\, in the las
 t decades\, people’s identity has been increasingly influenced by their 
 sense of belonging or not belonging to the Union\, ultimately resulting in
  complex and multiple identity affiliations.\n\nNevertheless\, students la
 ck a clear understanding of what the European Union is and how it came to 
 be. The day after the Brexit Referendum (23 June 2016)\, for example\, the
  most researched question on Google in the United Kingdom was “What is t
 he E.U.”.
ATTACH;FMTTYPE=image/jpeg:https://historielaerer.dk/wp-content/uploads/201
 9/06/Thematic-seminar-Brussels-Cover.png
CATEGORIES:Euroclio
LOCATION:House of European History\, rue Bélliard\, Bruxelles\, Belgium
GEO:50.8409632;4.3758239
X-APPLE-STRUCTURED-LOCATION;VALUE=URI;X-ADDRESS=rue Bélliard\, Bruxelles\,
  Belgium;X-APPLE-RADIUS=100;X-TITLE=House of European History:geo:50.84096
 32,4.3758239
END:VEVENT
END:VCALENDAR