BEGIN:VCALENDAR
VERSION:2.0
PRODID:-//wp-events-plugin.com//7.2.3.1//EN
TZID:Europe/Berlin
X-WR-TIMEZONE:Europe/Berlin
BEGIN:VEVENT
UID:73@historielaerer.dk
DTSTART:20180316T080000Z
DTEND:20180316T143000Z
DTSTAMP:20180106T195853Z
URL:https://historielaerer.dk/kurser/nationale-identiteter-norden-2/
SUMMARY:Nationale identiteter i Norden
DESCRIPTION:Historiefaget og historieundervisningen har fra sin fødsel væ
 ret tæt knyttet til spørgsmålet om national identitet\, og selvom vi le
 ver i en tid præget af globalisering og europæisering er der ikke noget 
 der tyder på\, at de nationale identiteter er på vej til at dø ud. Den 
 svenske og den danske historielærerforening udbyder i fællesskab et kurs
 us\, hvor vi vil sætte fokus på konstruktion og forandring af nationale 
 identiteter i Norden med særligt fokus på områder med skiftende statsli
 gt tilhørsforhold.\n\nKurset byder på såvel akademiske oplæg af højt 
 profilerede forskere på området\, som mulighed for udveksling af erfarin
 ger om\, hvordan vi behandler disse emner på tværs af grænser og underv
 isningstraditioner.
ATTACH;FMTTYPE=image/jpeg:https://historielaerer.dk/wp-content/uploads/201
 7/12/side03-03.jpg
CATEGORIES:Kurser
LOCATION:Lund Katedralskole\, Stora Södergatan 22\, Lund\, 222 23 \, Swede
 n
GEO:55.7003712;13.18983849999995
X-APPLE-STRUCTURED-LOCATION;VALUE=URI;X-ADDRESS=Stora Södergatan 22\, Lund
 \, 222 23 \, Sweden;X-APPLE-RADIUS=100;X-TITLE=Lund Katedralskole:geo:55.7
 003712,13.18983849999995
END:VEVENT
END:VCALENDAR