BEGIN:VCALENDAR
VERSION:2.0
PRODID:-//wp-events-plugin.com//7.2.3.1//EN
TZID:Europe/Berlin
X-WR-TIMEZONE:Europe/Berlin
BEGIN:VEVENT
UID:241@historielaerer.dk
DTSTART;TZID=Europe/Berlin:20250329T000000
DTEND;TZID=Europe/Berlin:20250330T000000
DTSTAMP:20250117T150808Z
URL:https://historielaerer.dk/kurser/historiske-dage-2025/
SUMMARY:Historiske Dage 2025
DESCRIPTION:Som medlem af Historielærerforeningen kan du i år få rabat t
 il Historiske Dage (følg linket\, hvis du ikke ved\, hvad det er). Billet
 prisen for medlemmer er 100 kr.\n\nLog ind med din medlemsbruger for at f
 å rabat. Ingen bruger? Opret en her\n\n[restrict userlevel="contributor"
 ] Følg dette link og få medlemsrabat til Historiske Dage 2025. [/restric
 t]
ATTACH;FMTTYPE=image/jpeg:https://historielaerer.dk/wp-content/uploads/202
 5/01/historiske-dage.jpg
CATEGORIES:Historiske dage,Kurser
LOCATION:Øksnehallen\, Kbh.\, Staldgade 16\, København\, Region Hovedstad
 en\, 1699\, Denmark
GEO:55.668509;12.562011
X-APPLE-STRUCTURED-LOCATION;VALUE=URI;X-ADDRESS=Staldgade 16\, København\,
  Region Hovedstaden\, 1699\, Denmark;X-APPLE-RADIUS=100;X-TITLE=Øksnehall
 en\, Kbh.:geo:55.668509,12.562011
END:VEVENT
BEGIN:VTIMEZONE
TZID:Europe/Berlin
X-LIC-LOCATION:Europe/Berlin
BEGIN:STANDARD
DTSTART:20241027T020000
TZOFFSETFROM:+0200
TZOFFSETTO:+0100
TZNAME:CET
END:STANDARD
END:VTIMEZONE
END:VCALENDAR