BEGIN:VCALENDAR
VERSION:2.0
PRODID:-//wp-events-plugin.com//7.2.3.1//EN
TZID:Europe/Berlin
X-WR-TIMEZONE:Europe/Berlin
BEGIN:VEVENT
UID:9@historielaerer.dk
DTSTART;VALUE=DATE:20151105
DTEND;VALUE=DATE:20151107
DTSTAMP:20210523T183111Z
URL:https://historielaerer.dk/kurser/generalforsamlingskursus-fortaellinge
 n-historien/
SUMMARY:Fortid og fortælling
DESCRIPTION:Historielærerforeningen yder tilskud til kurset – derfor den
 ne meget fordelagtige pris\n\nPris kun 1900 kr. for hele kursuspakken\n\nK
 ursus uden overnatning 1000 kr.\n\nKun Generalforsamling med middag den 5.
  november er gratis\, men tilmelding er påkrævet\, hvis du vil spise med
 .\n\nDer kan IKKE parkeres på Odense Katedralskole.\nProgram :\nTorsdag d
 . 5. november\n10:00 - 10:30: Ankomst og kaffe på Odense Katedralskole\n\
 n10.30-12.30 Foredrag af Ulrik Langen om spændingsfeltet mellem fakta og
  fiktion i historievidenskaben\n\n12.30-13.15 Frokost\n\n13.15- 14.45 Fore
 drag af Kim Leine om hvordan han bruger historie og historien i sine fort
 ællinger\n\n14.45-15.15 Kaffe\n\n15.15 - 16.45 Foredrag af Rasmus Dahlber
 g om historiefortællingen som levebrød\n\nIndkvartering på Plaza Hotel 
  - 5 min. gang fra skolen.\n\n18.30 Generalforsamlingsmiddag\n\n20.00 Gen
 eralforsamling\nFredag d. 6. november:\n&nbsp\;\n\n9.15-10.45:\n\n 	Gruppe
  1:  9:15-10:45  : workshop om brugen af tegneserier i historieundervisn
 ingen ved Jesper Kaalund\n 	Gruppe 2 :  Møder Jenny 9:30 i skolegården 
 - besøg på Tidens samling - rundvisning kl. 10.00-11.00\n\n11.15-12.45:\
 n\n 	Gruppe 1 - Møder Jenny 10:45 i skolegården - besøg på Tidens saml
 ing - rundvisning kl. 11.00-12.00\n 	Gruppe 2 -11:15 - 12:45:   workshop 
 om brugen af tegneserier i historieundervisningen ved Jesper Kaalund\n\n12
 .45-13.30: frokost\n\n13.30-15.30:\n\n 	Gruppe 1: Workshop om brugen af fi
 lm og dokumentar i historieundervisningen ved Rasmus Falbe-Hansen\n 	Grupp
 e 2: Workshop om at bruge science fiction i et historiebrugsperspektiv ved
  Peter Brunbech\n\nValg af workshop fredag eftermiddag:\nSkriv dig på her
  - så kommer dit navn på listen - Rasmus Falbe- Hansens workshop er fyld
 t op - skriv gerne dit navn på gruppe 2:\n\n\n\nBilledkilder:\n\nKim Lein
 e: Amrei-Marie (Own work) [CC BY-SA 3.0]\, via Wikimedia Commons\n\nUlrik 
 Langen: Det kongelige bibliotek\n\nRasmus Dahlberg: http://www.rasmusdahl
 berg.dk/\n\n&nbsp\;
CATEGORIES:Kurser
LOCATION:Odense Katedralskole\, Jernbanegade 34\, Odense\, Denmark
GEO:55.39895;10.38375689999998
X-APPLE-STRUCTURED-LOCATION;VALUE=URI;X-ADDRESS=Jernbanegade 34\, Odense\, 
 Denmark;X-APPLE-RADIUS=100;X-TITLE=Odense Katedralskole:geo:55.39895,10.38
 375689999998
END:VEVENT
END:VCALENDAR