BEGIN:VCALENDAR
VERSION:2.0
PRODID:-//wp-events-plugin.com//7.2.3.1//EN
TZID:Europe/Berlin
X-WR-TIMEZONE:Europe/Berlin
BEGIN:VEVENT
UID:37@historielaerer.dk
DTSTART:20161124T070000Z
DTEND:20161124T140000Z
DTSTAMP:20180627T141107Z
URL:https://historielaerer.dk/kurser/foerste-verdenskrig-1916-2016/
SUMMARY:Første Verdenskrig: 1916-2016
DESCRIPTION:Kursus på Frederiksborg Gymnasium 24/11 2016 med Nils Arne Sø
 rensen\, Jesper Vind Jensen\, Claus Bundgaard Christensen og Birgitte Thom
 assen.
ATTACH;FMTTYPE=image/jpeg:https://historielaerer.dk/wp-content/uploads/201
 6/06/somme.jpg
CATEGORIES:Kurser
LOCATION:Frederiksborg Gymnasium\, Carlsbergvej 15\, Hillerød\, 3400\, Den
 mark
GEO:55.9250595;12.312766600000032
X-APPLE-STRUCTURED-LOCATION;VALUE=URI;X-ADDRESS=Carlsbergvej 15\, Hillerød
 \, 3400\, Denmark;X-APPLE-RADIUS=100;X-TITLE=Frederiksborg Gymnasium:geo:5
 5.9250595,12.312766600000032
END:VEVENT
END:VCALENDAR