BEGIN:VCALENDAR
VERSION:2.0
PRODID:-//wp-events-plugin.com//7.2.3.1//EN
TZID:Europe/Berlin
X-WR-TIMEZONE:Europe/Berlin
BEGIN:VEVENT
UID:15@historielaerer.dk
DTSTART:20150831T073000Z
DTEND:20150831T140000Z
DTSTAMP:20210523T182705Z
URL:https://historielaerer.dk/kurser/ajourjelling/
SUMMARY:Ajour med fortiden i Jelling
DESCRIPTION:Parkering ved Poppovej eller Vestergade.\n\nPris: 600\,-\n\nTil
 melding til regionalsekretær Heidi Funder på mail fu@roedkilde-gym.dk\n\
 nFrist: 24.8.15\n\nBliv ajour med fortiden regionalt og nationalt – kom 
 til Jelling – igen !\n\nFor fire år siden holdt vi et velbesøgt region
 alkursus i de dengang åbne udgravninger i Jelling. Vi gik blandt andet en
  tur rundt på markerne og fik således ved selvsyn en tidlig fornemmelse 
 af anlæggets størrelse og dermed antydningen af vores ændrede forståel
 se af dets betydning.\nI dag er fundet markeret ved de smukke palisader\, 
 og overinspektør ved Kongernes Jelling\, Hans Ole Matthiesen\, vil tage o
 s med på en ny vandring\, hvor han fortæller om den aktuelle tolkning af
  fundet og dermed dets betydning for vores forståelse af Danmarks tilbliv
 else. Mon ikke turen også vil gøre holdt ved de nu beskyttede Jellinge s
 ten.\nPalisaderne er ikke eneste nyskabelse i Kongernes Jelling. Museet\, 
 som hører under National Museet\, genåbner d. 6. juni 2015\, i helt nye\
 , flotte\, fleksible lokaler\, der rummer tidssvarende\, interaktive udsti
 llinger. Fokus i den første udstilling vil være på Trosskiftet\, hvor H
 ans Ole Matthiesen lover os en sanselig fortælling i flere plan\, ligesom
  han vil give os en indføring i\, hvad dette regionale skatkammer i øvri
 gt har at byde på.\n\nEn sanselig oplevelse venter os også til frokost\,
  som vi vil indtage på museets café\, der har udsigt over monumentområd
 et.\n\nNationalt Videnscenter for Historie- og Kulturarvsformidling har\, 
 som nogle vil vide\, også til huse i Jelling. Nationalt Videnscenter har 
 til opgave at fremme børn og unges viden om og forståelse af\, at histor
 ie og kulturarv har betydning for det moderne samfund. Altså det\, som i 
 gymnasieregi hedder ”at være historieskabt og historieskabende”. Cent
 eret har endvidere til opgave at skabe netværk og bidrage til at styrke d
 en pædagogiske og didaktiske formidling af historie og kulturarv regional
 t\, nationalt og globalt. Centeret har hidtil haft hovedfokus på folkesko
 len og blandt andet udviklet materiale til skolens 200 års jubilæum sids
 te år\, samt Tidslinjespillet (omtalt i Noter\, marts 2015)\, men står o
 ver for for alvor at skulle tage hul på samarbejdet med ungdomsuddannelse
 rne.\n\nDet vil Historielærerforeningen gerne byde ind på\, og I kan væ
 re med!\n\nEftermiddagen starter ud med kortere oplæg ved Jens Aage Pouls
 en\, der beskæftiger sig med historiedidaktik og historie som skolefag\, 
 og som til august vil have dugfriske observationer fra en stor undersøgel
 se af historie i folkeskolen med til os\, dvs. hvad har de elever\, vi mø
 der i 1.g med og hvorfor. Efter at vi er blevet mindet om vor undervisning
 svirkelighed\, vil repræsentanter fra Nationalt Videnscenter fortælle li
 dt om deres visioner for samarbejdet med ungdomsuddannelserne og gå i dia
 log med os om\, hvor vi forestiller os at kunne have gavn af hinanden. Det
 te kunne fx være i form af etablering af netværk\, didaktiske diskussion
 er på tværs af ungdomsuddannelserne\, progression\, overgangsproblematik
 ker\, historie i tværfaglige samarbejder\, osv.\n\nFagkonsulent\, Christi
 an Vollmond\, kommer på besøg og deltager i dialogen\, lige som der vane
 n tro vil være nyt fra bestyrelsen sidst på dagen.\n\nPå gensyn i Jelli
 ng d. 31.8.2015\n\nProgram:\n\n9.30-10.00 Velkomst – kaffe og rundstykke
 r\n\n10.00-11.15 Rundvisning i Kongernes Jelling\, Museet\n\n11.30-12.15 R
 undvisning langs palisaderne\, husk påklædning i henhold til vejret\n\n1
 2.15-13.15 Frokost\n\n13.15-15.00 Oplæg og dialog ved Jens Aage Poulsen &
 amp\; Nikolaj Petersen\, begge fra Nationalt Videnscenter for Historie- o
 g Kulturarvsformidling\n\n15.00-15.15 Kaffe\n\n15.15-15.45 Nyt fra Fagkons
 ulenten\n\n15.45-16.00 Nyt fra Historielærerforeningen
CATEGORIES:Kurser
LOCATION:Kongernes Jelling\, Gormsgade 23\, Jelling\, 7300\, Denmark
GEO:55.75670479999999;9.418211199999973
X-APPLE-STRUCTURED-LOCATION;VALUE=URI;X-ADDRESS=Gormsgade 23\, Jelling\, 73
 00\, Denmark;X-APPLE-RADIUS=100;X-TITLE=Kongernes Jelling:geo:55.756704799
 99999,9.418211199999973
END:VEVENT
END:VCALENDAR